BEGIN:VCALENDAR
VERSION:2.0
PRODID:-//BoerLeving - ECPv6.10.2//NONSGML v1.0//EN
CALSCALE:GREGORIAN
METHOD:PUBLISH
X-WR-CALNAME:BoerLeving
X-ORIGINAL-URL:https://boerleving.nl
X-WR-CALDESC:Evenementen voor BoerLeving
REFRESH-INTERVAL;VALUE=DURATION:PT1H
X-Robots-Tag:noindex
X-PUBLISHED-TTL:PT1H
BEGIN:VTIMEZONE
TZID:UTC
BEGIN:STANDARD
TZOFFSETFROM:+0000
TZOFFSETTO:+0000
TZNAME:UTC
DTSTART:20250101T000000
END:STANDARD
END:VTIMEZONE
BEGIN:VEVENT
DTSTART;TZID=UTC:20250720T080000
DTEND;TZID=UTC:20250720T170000
DTSTAMP:20260425T135709
CREATED:20250226T125430Z
LAST-MODIFIED:20250409T120802Z
UID:99-1752998400-1753030800@boerleving.nl
SUMMARY:Autorace
DESCRIPTION:
URL:https://boerleving.nl/event/autorace/
ATTACH;FMTTYPE=image/jpeg:https://boerleving.nl/app/uploads/2025/02/Foto-0183-scaled.jpg
END:VEVENT
END:VCALENDAR