BEGIN:VCALENDAR
VERSION:2.0
PRODID:-//BoerLeving - ECPv6.10.2//NONSGML v1.0//EN
CALSCALE:GREGORIAN
METHOD:PUBLISH
X-WR-CALNAME:BoerLeving
X-ORIGINAL-URL:https://boerleving.nl
X-WR-CALDESC:Evenementen voor BoerLeving
REFRESH-INTERVAL;VALUE=DURATION:PT1H
X-Robots-Tag:noindex
X-PUBLISHED-TTL:PT1H
BEGIN:VTIMEZONE
TZID:Europe/Amsterdam
BEGIN:DAYLIGHT
TZOFFSETFROM:+0100
TZOFFSETTO:+0200
TZNAME:CEST
DTSTART:20260329T010000
END:DAYLIGHT
BEGIN:STANDARD
TZOFFSETFROM:+0200
TZOFFSETTO:+0100
TZNAME:CET
DTSTART:20261025T010000
END:STANDARD
END:VTIMEZONE
BEGIN:VEVENT
DTSTART;VALUE=DATE:20260525
DTEND;VALUE=DATE:20260526
DTSTAMP:20260425T164254
CREATED:20260306T105137Z
LAST-MODIFIED:20260306T105137Z
UID:244-1779667200-1779753599@boerleving.nl
SUMMARY:Openboerderij/campina opendag tweede pinksterdag
DESCRIPTION:
URL:https://boerleving.nl/event/openboerderij-campina-opendag-tweede-pinksterdag/
END:VEVENT
BEGIN:VEVENT
DTSTART;TZID=Europe/Amsterdam:20260606T080000
DTEND;TZID=Europe/Amsterdam:20260606T170000
DTSTAMP:20260425T164254
CREATED:20260306T105248Z
LAST-MODIFIED:20260306T105248Z
UID:246-1780732800-1780765200@boerleving.nl
SUMMARY:Doe-dag Bommelerwaard
DESCRIPTION:
URL:https://boerleving.nl/event/doe-dag-bommelerwaard/
END:VEVENT
END:VCALENDAR